BEGIN:VCALENDAR
VERSION:2.0
PRODID:-//Oberstaufen Karte - ECPv6.12.0.1//NONSGML v1.0//EN
CALSCALE:GREGORIAN
METHOD:PUBLISH
X-ORIGINAL-URL:https://www.meinoberstaufen.de
X-WR-CALDESC:Veranstaltungen für Oberstaufen Karte
REFRESH-INTERVAL;VALUE=DURATION:PT1H
X-Robots-Tag:noindex
X-PUBLISHED-TTL:PT1H
BEGIN:VTIMEZONE
TZID:Europe/Berlin
BEGIN:DAYLIGHT
TZOFFSETFROM:+0100
TZOFFSETTO:+0200
TZNAME:CEST
DTSTART:20250330T010000
END:DAYLIGHT
BEGIN:STANDARD
TZOFFSETFROM:+0200
TZOFFSETTO:+0100
TZNAME:CET
DTSTART:20251026T010000
END:STANDARD
END:VTIMEZONE
BEGIN:VEVENT
DTSTART;TZID=Europe/Berlin:20250922T193000
DTEND;TZID=Europe/Berlin:20250922T203000
DTSTAMP:20260419T135535
CREATED:20250825T171501Z
LAST-MODIFIED:20250825T171501Z
UID:10000164-1758569400-1758573000@www.meinoberstaufen.de
SUMMARY:Jodler & Volksmusik
DESCRIPTION:Die Thaler Jodler laden zum Konzert in die schöne Kapelle im Ortsteil Knechtenhofen ein. Neben traditionellen Jodlern erklingt auch Volksmusik aus der Region.Ein abwechslungsreich gestaltetes Programm mit Musik und Gesang in Kirchenakustik. Eintritt frei!
URL:https://www.meinoberstaufen.de/veranstaltung/jodler-volksmusik/
LOCATION:Kapelle Knechtenhofen\, Thalkirchdorf\, Knechtenhofen 16\, Oberstaufen\, Bayern\, 87534\, Germany
CATEGORIES:Standkonzert
ATTACH;FMTTYPE=image/jpeg:https://www.meinoberstaufen.de/wp-content/uploads/2025/08/Thaler_Jodler.jpg
END:VEVENT
END:VCALENDAR